BEGIN:VCALENDAR
VERSION:2.0
PRODID:-//VicWeb Radio - ECPv6.0.12//NONSGML v1.0//EN
CALSCALE:GREGORIAN
METHOD:PUBLISH
X-WR-CALNAME:VicWeb Radio
X-ORIGINAL-URL:https://vicwebradio.com
X-WR-CALDESC:Events for VicWeb Radio
REFRESH-INTERVAL;VALUE=DURATION:PT1H
X-Robots-Tag:noindex
X-PUBLISHED-TTL:PT1H
BEGIN:VTIMEZONE
TZID:UTC
BEGIN:STANDARD
TZOFFSETFROM:+0000
TZOFFSETTO:+0000
TZNAME:UTC
DTSTART:20230101T000000
END:STANDARD
END:VTIMEZONE
BEGIN:VEVENT
DTSTART;TZID=UTC:20230616T200000
DTEND;TZID=UTC:20230616T200000
DTSTAMP:20260425T122051
CREATED:20190225T135140Z
LAST-MODIFIED:20230522T112656Z
UID:637-1686945600-1686945600@vicwebradio.com
SUMMARY:Dionne Blaize's Birthday Bash: Hot Single\, Unforgettable Party!
DESCRIPTION:Dionne Blaize is throwing a birthday bash on June 15th at Nostrand Station Bar & Lounge. Celebrate with her new single “I Want You\,” featuring Sean Paul. Sponsored by Webster’s Shopping World\, this event will be a night of non-stop dancing and fun. Don’t miss out! Get your tickets at https://bit.ly/44ziFbh and join the celebration. \n  \nIntro \nBrooklyn\, get ready to ignite the dance floor and celebrate in style as Dionne Blaize\, the sensational music artist\, throws an electrifying birthday party! Mark your calendars for June 15th from 8pm to 12am EDT because Nostrand Station Bar & Lounge will be the place to be. With her scorching new single “I Want You” featuring the iconic Sean Paul\, this event promises to be an unforgettable night of music\, excitement\, and pure entertainment. Sponsored by Webster’s Shopping World\, the premier destination for all your shopping and entertainment needs\, this celebration will leave you wanting more. Don’t miss out on the opportunity to be part of this extraordinary affair! \nThe Event Details \nDate: June 15th\nTime: 8pm to 12am\nVenue: Nostrand Station Bar & Lounge\, Brooklyn\, NY \nThe New Release: “I Want You” featuring Sean Paul \nTo set the stage on fire\, Dionne Blaize is dropping her sizzling new single\, “I Want You\,” featuring the legendary Sean Paul. With their combined talents\, this dynamic duo is sure to deliver an infectious blend of rhythm and melody that will have you grooving all night long. Brace yourself for a fusion of captivating vocals\, irresistible beats\, and lyrics that resonate with the soul. This eagerly anticipated track is bound to leave an indelible mark on the music scene. Be among the first to experience the magic of “I Want You” live at the birthday bash! \nAn Unforgettable Night \nNostrand Station Bar & Lounge will be transformed into the ultimate party destination for Dionne Blaize’s birthday celebration. From the moment you step through the doors\, you’ll be immersed in a world of pulsating music\, vibrant energy\, and an atmosphere charged with excitement. Get ready to dance the night away as Dionne Blaize takes the stage\, captivating the crowd with her powerful presence and electrifying performance. The party will be fueled by the infectious beats of DJ sets\, keeping the dance floor alive and the energy levels soaring. \nSponsors: Webster’s Shopping World and Netfa Records \nThis extravagant affair is made possible by the generous support of Webster’s Shopping World\, your ultimate shopping and entertainment destination. Offering a wide range of products\, services\, and entertainment options\, Webster’s Shopping World is your go-to source for all your needs. Netfa Records\, a division of Webster’s Shopping World\, has been instrumental in bringing Dionne Blaize’s music to life and ensuring her talent reaches the masses. Their partnership has given rise to this remarkable birthday celebration that combines the power of music and community. \nJoin the Celebration \nTo secure your spot at Dionne Blaize’s epic birthday bash\, visit https://bit.ly/44ziFbh and grab your tickets today. Don’t miss the chance to witness the birth of a new hit single\, dance alongside passionate music enthusiasts\, and celebrate Dionne Blaize’s special day in the heart of Brooklyn. Share in the excitement using the hashtags #DionneBlaize\, #SeanPaul\, #NetfaRecords\, #NewRelease\, #IWANTYOU\, #BirthdaySingle\, #PartyTime\, #WebstersShoppingWorld\, #NostrandStationBarAndLounge\, #BrooklynNYC\, #June15th\, and #SaveTheDate on social media to spread the word and let everyone know that this is an event they cannot afford to miss! \nPrepare for an extraordinary night of music\, entertainment\, and the joy of celebrating Dionne Blaize’s
URL:https://vicwebradio.com/event/dionne-blaizes-birthday-bash-hot-single-unforgettable-party/
LOCATION:Nostrand Station Bar & Lounge\, Brooklyn\, NY\, 11201\, United States
CATEGORIES:PartyTime
ATTACH;FMTTYPE=image/jpeg:https://vicwebradio.com/wp-content/uploads/2023/05/VicWeb-Radio-radio-station-San-Jose-California.jpg
ORGANIZER;CN="Netfa%20Records":MAILTO:Vicwebradio@gmail.com
END:VEVENT
END:VCALENDAR